BEGIN:VCALENDAR
VERSION:2.0
PRODID:-//Ragna - ECPv6.15.20//NONSGML v1.0//EN
CALSCALE:GREGORIAN
METHOD:PUBLISH
X-WR-CALNAME:Ragna
X-ORIGINAL-URL:https://ragnavoice.com
X-WR-CALDESC:Veranstaltungen für Ragna
REFRESH-INTERVAL;VALUE=DURATION:PT1H
X-Robots-Tag:noindex
X-PUBLISHED-TTL:PT1H
BEGIN:VTIMEZONE
TZID:Europe/Berlin
BEGIN:DAYLIGHT
TZOFFSETFROM:+0100
TZOFFSETTO:+0200
TZNAME:CEST
DTSTART:20160327T010000
END:DAYLIGHT
BEGIN:STANDARD
TZOFFSETFROM:+0200
TZOFFSETTO:+0100
TZNAME:CET
DTSTART:20161030T010000
END:STANDARD
BEGIN:DAYLIGHT
TZOFFSETFROM:+0100
TZOFFSETTO:+0200
TZNAME:CEST
DTSTART:20170326T010000
END:DAYLIGHT
BEGIN:STANDARD
TZOFFSETFROM:+0200
TZOFFSETTO:+0100
TZNAME:CET
DTSTART:20171029T010000
END:STANDARD
BEGIN:DAYLIGHT
TZOFFSETFROM:+0100
TZOFFSETTO:+0200
TZNAME:CEST
DTSTART:20180325T010000
END:DAYLIGHT
BEGIN:STANDARD
TZOFFSETFROM:+0200
TZOFFSETTO:+0100
TZNAME:CET
DTSTART:20181028T010000
END:STANDARD
END:VTIMEZONE
BEGIN:VEVENT
DTSTART;TZID=Europe/Berlin:20171102T140000
DTEND;TZID=Europe/Berlin:20171102T143000
DTSTAMP:20260420T160107
CREATED:20170814T123513Z
LAST-MODIFIED:20170814T123647Z
UID:462-1509631200-1509633000@ragnavoice.com
SUMMARY:Landschaft zwischen Impressionismus und Expressionismus. Meisterwerke von Hagemeister und Leistikow
DESCRIPTION:Reinhild Kuhn: Gesang \nChristian Kullack: Gitarre
URL:https://ragnavoice.com/termin/landschaft-zwischen-impressionismus-und-expressionismus-meisterwerke-von-hagemeister-und-leistikow/
LOCATION:Bröhan Museum
ATTACH;FMTTYPE=image/jpeg:https://ragnavoice.com/wp-content/uploads/2016/07/MG_9494.jpg
END:VEVENT
END:VCALENDAR